BEGIN:VCALENDAR
VERSION:2.0
PRODID:DPCALENDAR
CALSCALE:GREGORIAN
BEGIN:VTIMEZONE
TZID:America/Los_Angeles
X-MICROSOFT-CDO-TZID:13
BEGIN:STANDARD
DTSTART:20251102T090000
TZOFFSETFROM:-0700
TZOFFSETTO:-0800
TZNAME:PST
END:STANDARD
BEGIN:STANDARD
DTSTART:20261101T090000
TZOFFSETFROM:-0700
TZOFFSETTO:-0800
TZNAME:PST
END:STANDARD
BEGIN:DAYLIGHT
DTSTART:20260308T100000
TZOFFSETFROM:-0800
TZOFFSETTO:-0700
TZNAME:PDT
END:DAYLIGHT
END:VTIMEZONE
X-WR-TIMEZONE:America/Los_Angeles
BEGIN:VEVENT
DTSTART;TZID=America/Los_Angeles:20170624T060000
DTEND;TZID=America/Los_Angeles:20170624T110000
UID:454BC5F8-140E-4B70-9C09-988270CD9D80
SUMMARY:Fishing Derby 
DTSTAMP:20170428T212138Z
DESCRIPTION:
X-ALT-DESC;FMTTYPE=text/html:
LAST-MODIFIED:20170428T212329Z
X-ACCESS:1
X-HITS:3
X-URL:
X-COLOR:3366CC
X-SHOW-END-TIME:1
END:VEVENT
END:VCALENDAR